BEGIN:VCALENDAR
VERSION:2.0
PRODID:-//Library Market//iCal Export//EN
BEGIN:VEVENT
SUMMARY:Bay Beach Wildlife Sanctuary Animal Meet and Greet
UID:67438
DTSTAMP:20260426T041500Z
DTSTART:20260612T150000Z
DTEND:20260612T160000Z
LOCATION:Central Library, 515 Pine Street, Green Bay, WI 54301, United Sta
 tes
ROOM: Auditorium &amp; Meeting Room 1 &amp; 2 (CEN)
DESCRIPTION:Bay Beach Wildlife Sanctuary will bring their live animal frie
 nds for a fun, educational experience! You’ll learn about how these anim
 als live in the wild but also hear how they came to live at the Wildlife S
 anctuary. Lots of chances for up close viewing and questions. 
URL:https://browncounty.librarycalendar.com/event/zoomobile-presents-67438
END:VEVENT
END:VCALENDAR
