BEGIN:VCALENDAR
VERSION:2.0
PRODID:-//Library Market//iCal Export//EN
BEGIN:VEVENT
SUMMARY:Toddler Storytime
UID:66790
DTSTAMP:20260426T041500Z
DTSTART:20260617T151500Z
DTEND:20260617T154500Z
LOCATION:Ashwaubenon Branch, 1060 Orlando Drive, Ashwaubenon, WI 54304, Un
 ited States
ROOM: Meeting Room (ASH)
DESCRIPTION:Please check website for location.
URL:https://browncounty.librarycalendar.com/event/toddler-storytime-66790
END:VEVENT
END:VCALENDAR
