BEGIN:VCALENDAR
VERSION:2.0
PRODID:-//Library Market//iCal Export//EN
BEGIN:VEVENT
SUMMARY:The Silliest Summer Reading Kickoff With Curious George
UID:66182
DTSTAMP:20260425T233700Z
DTSTART:20260606T150000Z
DTEND:20260606T170000Z
LOCATION:Central Library, 515 Pine Street, Green Bay, WI 54301, United Sta
 tes
ROOM: Auditorium &amp; Meeting Room 1 &amp; 2 (CEN)
DESCRIPTION:All Ages. Miller and Mike will perform their interactive comed
 y juggling show. Get ready to laugh with fun for the whole family! Meet Cu
 rious George from the popular children&#039;s books by H.A. Rey and get a 
 photo! Join in on a group art project, scavenger hunt, carnival games, act
 ivities in the Edible Garden and other hands-on fun. Don&#039;t miss your 
 first chance to sign up for the library&#039;s summer reading programs for
  babies, kids, teens, and adults.
URL:https://browncounty.librarycalendar.com/event/summer-reading-kickoff-6
 6182
END:VEVENT
END:VCALENDAR
