BEGIN:VCALENDAR
VERSION:2.0
PRODID:-//Library Market//iCal Export//EN
BEGIN:VEVENT
SUMMARY:&quot;We Will See You Bleed&quot;: Author Visit with Ron Currie
UID:64185
DTSTAMP:20260423T224700Z
DTSTART:20260728T233000Z
DTEND:20260729T004500Z
LOCATION:Central Library, 515 Pine Street, Green Bay, WI 54301, United Sta
 tes
ROOM: Auditorium &amp; Meeting Room 1 &amp; 2 (CEN)
DESCRIPTION:Award-winning author Ron Currie will discuss his newest book, 
 We Will See You BleedÂ (Putnam, July 7, 2026). This darkly funny literary 
 crime novel is a prequel to his previous USA Today bestselling novel, TheÂ
  Savage, Noble Death of Babs Dionne, which was widely critically acclaimed
  and is now in development as a limited series for Netflix with Stranger T
 hings creators, the Duffer Brothers. Both stories are set in the authorâ€™
 s home state of Maine, where Ron is on the MFA faculty at the University o
 f Southern Maine in Portland.Â Stephen King calls We Will See You BleedÂ â
 €śa thriller in the best sense. You canâ€™t put the damn thing down, and t
 he story of these down-and-outs fighting the powers that be will stay with
  you a long time.&quot;Author presentation followed by book sales, book si
 gning, refreshments and a meet-and-greet.Presented in collaboration with t
 he Friends of the Brown County Library and Lionâ€™s Mouth Bookstore.WATCH 
 THIS SPACE FOR EVENT UPDATES!BOOK SALE DETAILS: A limited number of copies
  of both books in the series will be for sale at the event. Order &amp; pr
 epay forÂ We Will See You Bleed, and/orÂ The Savage, Noble Death of Babs D
 ionneÂ - paperback (or hardcover) via Lion&#039;s Mouth Bookstore and getÂ
  15% off when you order by June 19th using code RCURRIE.Â More about the b
 ook here.Â More about the author here.
URL:https://browncounty.librarycalendar.com/event/author-ron-currie
END:VEVENT
END:VCALENDAR
